BEGIN:VCALENDAR
VERSION:2.0
PRODID:-//i+12 - ECPv6.15.14//NONSGML v1.0//EN
CALSCALE:GREGORIAN
METHOD:PUBLISH
X-WR-CALNAME:i+12
X-ORIGINAL-URL:https://imas12.es
X-WR-CALDESC:Eventos para i+12
REFRESH-INTERVAL;VALUE=DURATION:PT1H
X-Robots-Tag:noindex
X-PUBLISHED-TTL:PT1H
BEGIN:VTIMEZONE
TZID:Europe/Madrid
BEGIN:DAYLIGHT
TZOFFSETFROM:+0100
TZOFFSETTO:+0200
TZNAME:CEST
DTSTART:20250330T010000
END:DAYLIGHT
BEGIN:STANDARD
TZOFFSETFROM:+0200
TZOFFSETTO:+0100
TZNAME:CET
DTSTART:20251026T010000
END:STANDARD
BEGIN:DAYLIGHT
TZOFFSETFROM:+0100
TZOFFSETTO:+0200
TZNAME:CEST
DTSTART:20260329T010000
END:DAYLIGHT
BEGIN:STANDARD
TZOFFSETFROM:+0200
TZOFFSETTO:+0100
TZNAME:CET
DTSTART:20261025T010000
END:STANDARD
BEGIN:DAYLIGHT
TZOFFSETFROM:+0100
TZOFFSETTO:+0200
TZNAME:CEST
DTSTART:20270328T010000
END:DAYLIGHT
BEGIN:STANDARD
TZOFFSETFROM:+0200
TZOFFSETTO:+0100
TZNAME:CET
DTSTART:20271031T010000
END:STANDARD
END:VTIMEZONE
BEGIN:VEVENT
DTSTART;TZID=Europe/Madrid:20260213T130000
DTEND;TZID=Europe/Madrid:20260213T140000
DTSTAMP:20260423T094035
CREATED:20260210T115408Z
LAST-MODIFIED:20260212T115810Z
UID:14887-1770987600-1770991200@imas12.es
SUMMARY:Sesión Divulgativa - Día de la Mujer y la Niña en la Ciencia
DESCRIPTION:Investigación Traslacional en Cáncer de Mama. Hacia una medicina de precisión \n\nPonentes:\n\nDra. Mª Ángeles Cobos Fernández. Investigadora del Grupo de Investigación en Cáncer de Mama y Ginecológico – Instituto i+12\n\n\nFecha: Viernes 13 de FEBRERO de 2026\, de 13:00h a 14:00h.\nLugar: SALÓN DE ACTOS – antiguo edificio Materno – Infantil\nPresencial y retransmisión en directo a través de la plataforma Microsoft Teams
URL:https://imas12.es/actividad/sesion-divulgativa-dia-de-la-mujer-y-la-nina-en-la-ciencia/
LOCATION:Salón de Actos Edificio Materno-Infantil – Online a través de TEAMS
END:VEVENT
END:VCALENDAR