BEGIN:VCALENDAR
VERSION:2.0
PRODID:-//i+12 - ECPv6.15.14//NONSGML v1.0//EN
CALSCALE:GREGORIAN
METHOD:PUBLISH
X-WR-CALNAME:i+12
X-ORIGINAL-URL:https://imas12.es
X-WR-CALDESC:Eventos para i+12
REFRESH-INTERVAL;VALUE=DURATION:PT1H
X-Robots-Tag:noindex
X-PUBLISHED-TTL:PT1H
BEGIN:VTIMEZONE
TZID:Europe/Madrid
BEGIN:DAYLIGHT
TZOFFSETFROM:+0100
TZOFFSETTO:+0200
TZNAME:CEST
DTSTART:20200329T010000
END:DAYLIGHT
BEGIN:STANDARD
TZOFFSETFROM:+0200
TZOFFSETTO:+0100
TZNAME:CET
DTSTART:20201025T010000
END:STANDARD
BEGIN:DAYLIGHT
TZOFFSETFROM:+0100
TZOFFSETTO:+0200
TZNAME:CEST
DTSTART:20210328T010000
END:DAYLIGHT
BEGIN:STANDARD
TZOFFSETFROM:+0200
TZOFFSETTO:+0100
TZNAME:CET
DTSTART:20211031T010000
END:STANDARD
BEGIN:DAYLIGHT
TZOFFSETFROM:+0100
TZOFFSETTO:+0200
TZNAME:CEST
DTSTART:20220327T010000
END:DAYLIGHT
BEGIN:STANDARD
TZOFFSETFROM:+0200
TZOFFSETTO:+0100
TZNAME:CET
DTSTART:20221030T010000
END:STANDARD
END:VTIMEZONE
BEGIN:VEVENT
DTSTART;TZID=Europe/Madrid:20211103T143000
DTEND;TZID=Europe/Madrid:20211103T153000
DTSTAMP:20260421T064658
CREATED:20211029T061340Z
LAST-MODIFIED:20211029T061553Z
UID:9173-1635949800-1635953400@imas12.es
SUMMARY:Sesión General de Cuidados - Dña. Rocío Hontoria Alcoceba
DESCRIPTION:“Implantación de buenas prácticas en el manejo de catéteres venosos periféricos para la prevención de eventos adversos” \nPonente: Dña. Rocío Hontoria Alcoceba. Enfermera Servicio Medicina Interna. Beca de Intensificación de la actividad investigadora Instituto i+12 para personal de enfermería 2020. \nLugar: Salón de Actos Edificio Materno Infantil. \nCartel Sesión
URL:https://imas12.es/actividad/sesion-general-de-cuidados-dna-rocio-hontoria-alcoceba/
LOCATION:Salón de Actos Edificio Materno Infantil\, Avda. de Córdoba s/n\, Madrid\, 28041\, España
CATEGORIES:Investiga+12
END:VEVENT
BEGIN:VEVENT
DTSTART;TZID=Europe/Madrid:20211110T143000
DTEND;TZID=Europe/Madrid:20211110T153000
DTSTAMP:20260421T064658
CREATED:20211029T074825Z
LAST-MODIFIED:20211029T074825Z
UID:9182-1636554600-1636558200@imas12.es
SUMMARY:Sesión Virtual Investiga+12 - Dr. Félix Bermejo Pareja.
DESCRIPTION:El Alzheimer\, ¿Una enfermedad de la vejez? \n\nPonentes: Dr. Félix Bermejo Pareja. Investigador Consultor grupo Investigación Enfermedades Neurodegenerativas – Instituto de Investigación Hospital 12 de Octubre (Instituto i+12).\n\nLa sesión se impartirá a través de la Plataforma Zoom. \nSi quieres asistir contacta con nosotros en: \nEmail: calidad.imas12@h12o.es \nTfno.: 917792869 \nCartel Sesión Virtual i+12
URL:https://imas12.es/actividad/sesion-virtual-investiga12-dr-felix-bermejo-pareja/
LOCATION:Evento Online-Plataforma Zoom
CATEGORIES:Investiga+12
END:VEVENT
BEGIN:VEVENT
DTSTART;TZID=Europe/Madrid:20211117T143000
DTEND;TZID=Europe/Madrid:20211117T153000
DTSTAMP:20260421T064658
CREATED:20211111T080945Z
LAST-MODIFIED:20211111T081356Z
UID:9231-1637159400-1637163000@imas12.es
SUMMARY:Sesión Virtual Investiga+12 - Dra. Aurora Gómez Durán
DESCRIPTION:mtDNA & mitoDisease: Beyond OXPHOS deficiency \n\nPonentes: Dra. Aurora Gómez Durán\, Investigadora Responsable del grupo de Investigación Mitofenómica. Centro de Investigaciones Biológicas “Margarita Salas”. CSIC.\n\nLa sesión se impartirá a través de la Plataforma Zoom. \nSi quieres asistir contacta con nosotros en: \nEmail: calidad.imas12@h12o.es \nTfno.: 917792869 \nCartel Sesión Virtual i+12
URL:https://imas12.es/actividad/sesion-virtual-investiga12-dra-aurora-gomez-duran/
LOCATION:Sesión Virtual i+12 – Plataforma Zoom
CATEGORIES:Investiga+12
END:VEVENT
END:VCALENDAR