BEGIN:VCALENDAR
VERSION:2.0
PRODID:-//i+12 - ECPv6.15.14//NONSGML v1.0//EN
CALSCALE:GREGORIAN
METHOD:PUBLISH
X-ORIGINAL-URL:https://imas12.es
X-WR-CALDESC:Eventos para i+12
REFRESH-INTERVAL;VALUE=DURATION:PT1H
X-Robots-Tag:noindex
X-PUBLISHED-TTL:PT1H
BEGIN:VTIMEZONE
TZID:Europe/Madrid
BEGIN:DAYLIGHT
TZOFFSETFROM:+0100
TZOFFSETTO:+0200
TZNAME:CEST
DTSTART:20210328T010000
END:DAYLIGHT
BEGIN:STANDARD
TZOFFSETFROM:+0200
TZOFFSETTO:+0100
TZNAME:CET
DTSTART:20211031T010000
END:STANDARD
BEGIN:DAYLIGHT
TZOFFSETFROM:+0100
TZOFFSETTO:+0200
TZNAME:CEST
DTSTART:20220327T010000
END:DAYLIGHT
BEGIN:STANDARD
TZOFFSETFROM:+0200
TZOFFSETTO:+0100
TZNAME:CET
DTSTART:20221030T010000
END:STANDARD
BEGIN:DAYLIGHT
TZOFFSETFROM:+0100
TZOFFSETTO:+0200
TZNAME:CEST
DTSTART:20230326T010000
END:DAYLIGHT
BEGIN:STANDARD
TZOFFSETFROM:+0200
TZOFFSETTO:+0100
TZNAME:CET
DTSTART:20231029T010000
END:STANDARD
END:VTIMEZONE
BEGIN:VEVENT
DTSTART;VALUE=DATE:20221107
DTEND;VALUE=DATE:20221109
DTSTAMP:20260420T104818
CREATED:20221108T132433Z
LAST-MODIFIED:20221111T085137Z
UID:10533-1667782800-1667869199@imas12.es
SUMMARY:Semana de la Ciencia y la Innovación 2022 – Inauguración Exposición: "Santiago Ramón y Cajal"
DESCRIPTION:Plazas Disponibles \nNo es necesaria Reserva \nActividad PRESENCIAL: HOSPITAL UNIVERSITARIO 12 DE OCTUBRE – Vestíbulo Residencia General \nHorario: Desde el Lunes 7 a Jueves 17 de NOVIEMPRE de 09:00 a 19:00 – Viernes 18 de NOVIEMBRE de 09:00 a 14:00 \nDisciplina: Medicina \nPúblico al que va dirigido: Público General \nDescripción de la actividad: Exposición dedicada a diversas facetas y anécdotas relacionadas con la vida y la obra de Ramón y Cajal.. \nORGANIZA: Unidad de Cultura Cientifica y de la Innovación (UCC+i) / Consejo Superior de Investigaciones Científicas (CSIC) y Rocaviva Eventos \n                     
URL:https://imas12.es/actividad/semana-de-la-ciencia-y-la-innovacion-2022-exposicion-santiago-ramon-y-cajal/
LOCATION:Hospital Universitario 12 de Octubre – Vestíbulo Residencia General\, Avda de Córdoba S/n\, Madrid\, Madrid\, 28041\, España
CATEGORIES:Ciencia +12,Investiga+12,UCC+i
END:VEVENT
BEGIN:VEVENT
DTSTART;TZID=Europe/Madrid:20221116T110000
DTEND;TZID=Europe/Madrid:20221116T150000
DTSTAMP:20260420T104818
CREATED:20221107T131220Z
LAST-MODIFIED:20221111T084041Z
UID:10508-1668596400-1668610800@imas12.es
SUMMARY:Semana de la Ciencia y la Innovación 2022 – Jornada Puertas Abiertas Biobanco i+12. Los Biobancos como Herramienta de Investigación Biomédica.
DESCRIPTION:AFORO COMPLETO\nReserva de actividades a partir del 24 de octubre a las 9:00 \nActividad PRESENCIAL \nHorario: Miércoles 16 de 10:00 a 14:00 \nDisciplina: Biología Molecular\, Celular y Genética\, Medicina \nPúblico al que va dirigido: \n\n\nGrupos Organizados: Público universitario\, Estudiantes ESO\, Bachillerato y Ciclos Formativoss \n\n\nDescripción de la actividad: El objetivo de la actividad es divulgar el concepto de biobanco como herramienta de investigación biomédica. También se explicará qué es un biobanco hospitalario de investigación\, para qué sirve\, etc. \nORGANIZA: Biobanco Hospital Universitario 12 de Octubre / Unidad de Apoyo a la innovación i+12
URL:https://imas12.es/actividad/sci_2022_biobanco/
LOCATION:Hospital Universitario 12 de Octubre\, Avda. de Córdoba S/N\, Madrid\, Madrid\, 28041\, España
CATEGORIES:Ciencia +12,innova+12,Investiga+12
END:VEVENT
BEGIN:VEVENT
DTSTART;TZID=Europe/Madrid:20221117T110000
DTEND;TZID=Europe/Madrid:20221117T123000
DTSTAMP:20260420T104819
CREATED:20221107T132002Z
LAST-MODIFIED:20221111T084023Z
UID:10515-1668682800-1668688200@imas12.es
SUMMARY:Semana de la Ciencia y la Innovación 2022 – Misterios del corazón: la imagen cardíaca al servicio de la salud.
DESCRIPTION:AFORO COMPLETO \nReserva de actividades a partir del 24 de octubre a las 9:00 \nActividad PRESENCIAL \nHorario: Jueves 17 de 10:00 a 11:30 \nDisciplina: Medicina\, Otros. \nPúblico al que va dirigido: \n\n\nGrupos Organizados: Estudiantes ESO\, Bachillerato y Ciclos Formativoss \n\n\nPonente: Jorge Solís Martín \, Responsable del grupo de Imagen Cardiovascular\, Instituto de Investigación Hospital 12 de Octubre \nDescripción de la actividad: En esta actividad se presentarán de forma práctica distintas técnicas de imagen cardíaca y su aplicación en la identificación de enfermedades cardiovasculares. \nINF./RESERVA : Es necesario hacer reserva. \nEmail: cardioinvestigacion@h12o.es; mageanini_inno.imas12@h12o.es \nORGANIZA: Instituto de investigación i+12 / Unidad de Apoyo a la innovación i+12
URL:https://imas12.es/actividad/sci_2022_misterios_corazon/
LOCATION:Hospital Universitario 12 de Octubre\, Avda. de Córdoba S/N\, Madrid\, Madrid\, 28041\, España
CATEGORIES:Ciencia +12,Cursos,innova+12,Investiga+12
END:VEVENT
END:VCALENDAR