BEGIN:VCALENDAR
VERSION:2.0
PRODID:-//i+12 - ECPv6.15.14//NONSGML v1.0//EN
CALSCALE:GREGORIAN
METHOD:PUBLISH
X-WR-CALNAME:i+12
X-ORIGINAL-URL:https://imas12.es
X-WR-CALDESC:Eventos para i+12
REFRESH-INTERVAL;VALUE=DURATION:PT1H
X-Robots-Tag:noindex
X-PUBLISHED-TTL:PT1H
BEGIN:VTIMEZONE
TZID:Europe/Madrid
BEGIN:DAYLIGHT
TZOFFSETFROM:+0100
TZOFFSETTO:+0200
TZNAME:CEST
DTSTART:20180325T010000
END:DAYLIGHT
BEGIN:STANDARD
TZOFFSETFROM:+0200
TZOFFSETTO:+0100
TZNAME:CET
DTSTART:20181028T010000
END:STANDARD
BEGIN:DAYLIGHT
TZOFFSETFROM:+0100
TZOFFSETTO:+0200
TZNAME:CEST
DTSTART:20190331T010000
END:DAYLIGHT
BEGIN:STANDARD
TZOFFSETFROM:+0200
TZOFFSETTO:+0100
TZNAME:CET
DTSTART:20191027T010000
END:STANDARD
BEGIN:DAYLIGHT
TZOFFSETFROM:+0100
TZOFFSETTO:+0200
TZNAME:CEST
DTSTART:20200329T010000
END:DAYLIGHT
BEGIN:STANDARD
TZOFFSETFROM:+0200
TZOFFSETTO:+0100
TZNAME:CET
DTSTART:20201025T010000
END:STANDARD
END:VTIMEZONE
BEGIN:VEVENT
DTSTART;TZID=Europe/Madrid:20191210T143000
DTEND;TZID=Europe/Madrid:20191210T153000
DTSTAMP:20260422T200728
CREATED:20191128T071904Z
LAST-MODIFIED:20200108T084836Z
UID:6508-1575988200-1575991800@imas12.es
SUMMARY:Sesiones Investiga+12 – D. Santiago Pérez García.
DESCRIPTION:“Grupo de Investigación en Cuidados del i+12 – InveCuid”\nPonente: D. Santiago Pérez García.  Supervisor Área Funcional.  Investigación\, Desarrollo\, Innovación y Procesos Enfermería HU12O. Investigación en Cuidados – Instituto i+12. \nCartel informativo
URL:https://imas12.es/actividad/sesiones-investiga12-d-santiago-perez-garcia/
LOCATION:Salón de Actos Edificio Materno Infantil\, Avda. de Córdoba s/n\, Madrid\, 28041\, España
CATEGORIES:Investiga+12
END:VEVENT
END:VCALENDAR