BEGIN:VCALENDAR
VERSION:2.0
PRODID:-//i+12 - ECPv6.15.14//NONSGML v1.0//EN
CALSCALE:GREGORIAN
METHOD:PUBLISH
X-ORIGINAL-URL:https://imas12.es
X-WR-CALDESC:Eventos para i+12
REFRESH-INTERVAL;VALUE=DURATION:PT1H
X-Robots-Tag:noindex
X-PUBLISHED-TTL:PT1H
BEGIN:VTIMEZONE
TZID:Europe/Madrid
BEGIN:DAYLIGHT
TZOFFSETFROM:+0100
TZOFFSETTO:+0200
TZNAME:CEST
DTSTART:20200329T010000
END:DAYLIGHT
BEGIN:STANDARD
TZOFFSETFROM:+0200
TZOFFSETTO:+0100
TZNAME:CET
DTSTART:20201025T010000
END:STANDARD
BEGIN:DAYLIGHT
TZOFFSETFROM:+0100
TZOFFSETTO:+0200
TZNAME:CEST
DTSTART:20210328T010000
END:DAYLIGHT
BEGIN:STANDARD
TZOFFSETFROM:+0200
TZOFFSETTO:+0100
TZNAME:CET
DTSTART:20211031T010000
END:STANDARD
BEGIN:DAYLIGHT
TZOFFSETFROM:+0100
TZOFFSETTO:+0200
TZNAME:CEST
DTSTART:20220327T010000
END:DAYLIGHT
BEGIN:STANDARD
TZOFFSETFROM:+0200
TZOFFSETTO:+0100
TZNAME:CET
DTSTART:20221030T010000
END:STANDARD
END:VTIMEZONE
BEGIN:VEVENT
DTSTART;TZID=Europe/Madrid:20210326T103000
DTEND;TZID=Europe/Madrid:20210326T113000
DTSTAMP:20260421T203815
CREATED:20210324T075327Z
LAST-MODIFIED:20210928T103040Z
UID:8570-1616754600-1616758200@imas12.es
SUMMARY:Seminario Virtual i+12 – Dña. Paz de la Torre Merino
DESCRIPTION: “Papel de la Decidua en la pérdida del embarazo: estudio in vitro del efecto del Micofenolato” \nPonente: Dña. Paz de la Torre Merino. Grupo de Investigación Medicina Regenerativa Instituto i+12\, Área Transversal. \nEl seminario se impartirá a través de la Plataforma Zoom. \nSi quieres asistir contacta con nosotros en: \nEmail: calidad.imas12@h12o.es \nTfno.: 917792869 \nCartel Seminario Virtual i+12
URL:https://imas12.es/actividad/seminario-virtual-i12-dna-paz-de-la-torre-merino/
LOCATION:Evento Online-Plataforma Zoom
CATEGORIES:Investiga+12,Seminarios
END:VEVENT
END:VCALENDAR