BEGIN:VCALENDAR
VERSION:2.0
PRODID:-//i+12 - ECPv6.15.14//NONSGML v1.0//EN
CALSCALE:GREGORIAN
METHOD:PUBLISH
X-WR-CALNAME:i+12
X-ORIGINAL-URL:https://imas12.es
X-WR-CALDESC:Eventos para i+12
REFRESH-INTERVAL;VALUE=DURATION:PT1H
X-Robots-Tag:noindex
X-PUBLISHED-TTL:PT1H
BEGIN:VTIMEZONE
TZID:Europe/Madrid
BEGIN:DAYLIGHT
TZOFFSETFROM:+0100
TZOFFSETTO:+0200
TZNAME:CEST
DTSTART:20200329T010000
END:DAYLIGHT
BEGIN:STANDARD
TZOFFSETFROM:+0200
TZOFFSETTO:+0100
TZNAME:CET
DTSTART:20201025T010000
END:STANDARD
BEGIN:DAYLIGHT
TZOFFSETFROM:+0100
TZOFFSETTO:+0200
TZNAME:CEST
DTSTART:20210328T010000
END:DAYLIGHT
BEGIN:STANDARD
TZOFFSETFROM:+0200
TZOFFSETTO:+0100
TZNAME:CET
DTSTART:20211031T010000
END:STANDARD
BEGIN:DAYLIGHT
TZOFFSETFROM:+0100
TZOFFSETTO:+0200
TZNAME:CEST
DTSTART:20220327T010000
END:DAYLIGHT
BEGIN:STANDARD
TZOFFSETFROM:+0200
TZOFFSETTO:+0100
TZNAME:CET
DTSTART:20221030T010000
END:STANDARD
END:VTIMEZONE
BEGIN:VEVENT
DTSTART;TZID=Europe/Madrid:20211006T153000
DTEND;TZID=Europe/Madrid:20211006T163000
DTSTAMP:20260421T101027
CREATED:20210827T092356Z
LAST-MODIFIED:20210827T092356Z
UID:8961-1633534200-1633537800@imas12.es
SUMMARY:Sesión Virtual Investiga+12 – Dr. Luis Miguel Ruilope Urioste
DESCRIPTION:«Nuevos datos de la relación entre enfermedad renal crónica y la hipertensión arterial» \nPonente: Dr. Luis Miguel Ruilope Urioste. Investigador Consultor grupo Investigación Traslacional en Hipertensión y Enfermedad Cardorrenal –Instituto Investigación Hospital 12 de Octubre (Instituto i+12) \nLa sesión se impartirá a través de la Plataforma Zoom. \nSi quieres asistir contacta con nosotros en: \nEmail: calidad.imas12@h12o.es \nTfno.: 917792869 \nCartel Sesión Virtual i+12
URL:https://imas12.es/actividad/sesion-virtual-investiga12-dr-luis-miguel-ruilope-urioste/
CATEGORIES:Investiga+12
END:VEVENT
END:VCALENDAR