BEGIN:VCALENDAR
VERSION:2.0
PRODID:-//i+12 - ECPv6.15.14//NONSGML v1.0//EN
CALSCALE:GREGORIAN
METHOD:PUBLISH
X-ORIGINAL-URL:https://imas12.es
X-WR-CALDESC:Eventos para i+12
REFRESH-INTERVAL;VALUE=DURATION:PT1H
X-Robots-Tag:noindex
X-PUBLISHED-TTL:PT1H
BEGIN:VTIMEZONE
TZID:Europe/Madrid
BEGIN:DAYLIGHT
TZOFFSETFROM:+0100
TZOFFSETTO:+0200
TZNAME:CEST
DTSTART:20210328T010000
END:DAYLIGHT
BEGIN:STANDARD
TZOFFSETFROM:+0200
TZOFFSETTO:+0100
TZNAME:CET
DTSTART:20211031T010000
END:STANDARD
BEGIN:DAYLIGHT
TZOFFSETFROM:+0100
TZOFFSETTO:+0200
TZNAME:CEST
DTSTART:20220327T010000
END:DAYLIGHT
BEGIN:STANDARD
TZOFFSETFROM:+0200
TZOFFSETTO:+0100
TZNAME:CET
DTSTART:20221030T010000
END:STANDARD
BEGIN:DAYLIGHT
TZOFFSETFROM:+0100
TZOFFSETTO:+0200
TZNAME:CEST
DTSTART:20230326T010000
END:DAYLIGHT
BEGIN:STANDARD
TZOFFSETFROM:+0200
TZOFFSETTO:+0100
TZNAME:CET
DTSTART:20231029T010000
END:STANDARD
END:VTIMEZONE
BEGIN:VEVENT
DTSTART;TZID=Europe/Madrid:20220209T143000
DTEND;TZID=Europe/Madrid:20220209T153000
DTSTAMP:20260421T032349
CREATED:20211223T120346Z
LAST-MODIFIED:20211223T120805Z
UID:9363-1644417000-1644420600@imas12.es
SUMMARY:Sesión Virtual Investiga+12 - Dr. Pablo Rojo Conejo\, Dra. Mª Cinta Moraleda Redecilla\, Dr. Alfredo Tagarro García\, Dr. Daniel Blazquez Gamero\, Dr. Manuel Gijón Mediavilla
DESCRIPTION:“Investigación en COVID19 en niños: de las cohortes a los ensayos clínicos» \nPonentes: Dr. Pablo Rojo Conejo\, Dra. Mª Cinta Moraleda Redecilla\, Dr. Alfredo Tagarro García\, Dr. Daniel Blazquez Gamero\, Dr. Manuel Gijón Mediavilla – Grupo Investigación Traslacional en Enfermedades Infecciosas Pediátricas – Instituto de Investigación Hospital 12 de Octubre (Instituto i+12). \nLa sesión se impartirá a través de la Plataforma Zoom. \nSi quieres asistir contacta con nosotros en: \nEmail: calidad.imas12@h12o.es \nTfno.: 917792869 \nCartel Sesión Virtual i+12
URL:https://imas12.es/actividad/sesion-virtual-investiga12-dr-pablo-rojo-conejo-dra-ma-cinta-moraleda-redecilla-dr-alfredo-tagarro-garcia-dr-daniel-blazquez-gamero-dr-manuel-gijon-mediavilla/
LOCATION:Sesión Virtual i+12 – Plataforma Zoom
CATEGORIES:Investiga+12
END:VEVENT
END:VCALENDAR