BEGIN:VCALENDAR
VERSION:2.0
PRODID:-//i+12 - ECPv6.15.14//NONSGML v1.0//EN
CALSCALE:GREGORIAN
METHOD:PUBLISH
X-ORIGINAL-URL:https://imas12.es
X-WR-CALDESC:Eventos para i+12
REFRESH-INTERVAL;VALUE=DURATION:PT1H
X-Robots-Tag:noindex
X-PUBLISHED-TTL:PT1H
BEGIN:VTIMEZONE
TZID:Europe/Madrid
BEGIN:DAYLIGHT
TZOFFSETFROM:+0100
TZOFFSETTO:+0200
TZNAME:CEST
DTSTART:20210328T010000
END:DAYLIGHT
BEGIN:STANDARD
TZOFFSETFROM:+0200
TZOFFSETTO:+0100
TZNAME:CET
DTSTART:20211031T010000
END:STANDARD
BEGIN:DAYLIGHT
TZOFFSETFROM:+0100
TZOFFSETTO:+0200
TZNAME:CEST
DTSTART:20220327T010000
END:DAYLIGHT
BEGIN:STANDARD
TZOFFSETFROM:+0200
TZOFFSETTO:+0100
TZNAME:CET
DTSTART:20221030T010000
END:STANDARD
BEGIN:DAYLIGHT
TZOFFSETFROM:+0100
TZOFFSETTO:+0200
TZNAME:CEST
DTSTART:20230326T010000
END:DAYLIGHT
BEGIN:STANDARD
TZOFFSETFROM:+0200
TZOFFSETTO:+0100
TZNAME:CET
DTSTART:20231029T010000
END:STANDARD
END:VTIMEZONE
BEGIN:VEVENT
DTSTART;TZID=Europe/Madrid:20221117T110000
DTEND;TZID=Europe/Madrid:20221117T123000
DTSTAMP:20260420T121929
CREATED:20221107T132002Z
LAST-MODIFIED:20221111T084023Z
UID:10515-1668682800-1668688200@imas12.es
SUMMARY:Semana de la Ciencia y la Innovación 2022 – Misterios del corazón: la imagen cardíaca al servicio de la salud.
DESCRIPTION:AFORO COMPLETO \nReserva de actividades a partir del 24 de octubre a las 9:00 \nActividad PRESENCIAL \nHorario: Jueves 17 de 10:00 a 11:30 \nDisciplina: Medicina\, Otros. \nPúblico al que va dirigido: \n\n\nGrupos Organizados: Estudiantes ESO\, Bachillerato y Ciclos Formativoss \n\n\nPonente: Jorge Solís Martín \, Responsable del grupo de Imagen Cardiovascular\, Instituto de Investigación Hospital 12 de Octubre \nDescripción de la actividad: En esta actividad se presentarán de forma práctica distintas técnicas de imagen cardíaca y su aplicación en la identificación de enfermedades cardiovasculares. \nINF./RESERVA : Es necesario hacer reserva. \nEmail: cardioinvestigacion@h12o.es; mageanini_inno.imas12@h12o.es \nORGANIZA: Instituto de investigación i+12 / Unidad de Apoyo a la innovación i+12
URL:https://imas12.es/actividad/sci_2022_misterios_corazon/
LOCATION:Hospital Universitario 12 de Octubre\, Avda. de Córdoba S/N\, Madrid\, Madrid\, 28041\, España
CATEGORIES:Ciencia +12,Cursos,innova+12,Investiga+12
END:VEVENT
END:VCALENDAR