BEGIN:VCALENDAR
VERSION:2.0
PRODID:-//i+12 - ECPv6.15.14//NONSGML v1.0//EN
CALSCALE:GREGORIAN
METHOD:PUBLISH
X-ORIGINAL-URL:https://imas12.es
X-WR-CALDESC:Eventos para i+12
REFRESH-INTERVAL;VALUE=DURATION:PT1H
X-Robots-Tag:noindex
X-PUBLISHED-TTL:PT1H
BEGIN:VTIMEZONE
TZID:Europe/Madrid
BEGIN:DAYLIGHT
TZOFFSETFROM:+0100
TZOFFSETTO:+0200
TZNAME:CEST
DTSTART:20220327T010000
END:DAYLIGHT
BEGIN:STANDARD
TZOFFSETFROM:+0200
TZOFFSETTO:+0100
TZNAME:CET
DTSTART:20221030T010000
END:STANDARD
BEGIN:DAYLIGHT
TZOFFSETFROM:+0100
TZOFFSETTO:+0200
TZNAME:CEST
DTSTART:20230326T010000
END:DAYLIGHT
BEGIN:STANDARD
TZOFFSETFROM:+0200
TZOFFSETTO:+0100
TZNAME:CET
DTSTART:20231029T010000
END:STANDARD
BEGIN:DAYLIGHT
TZOFFSETFROM:+0100
TZOFFSETTO:+0200
TZNAME:CEST
DTSTART:20240331T010000
END:DAYLIGHT
BEGIN:STANDARD
TZOFFSETFROM:+0200
TZOFFSETTO:+0100
TZNAME:CET
DTSTART:20241027T010000
END:STANDARD
END:VTIMEZONE
BEGIN:VEVENT
DTSTART;TZID=Europe/Madrid:20230614T133000
DTEND;TZID=Europe/Madrid:20230614T143000
DTSTAMP:20260420T005545
CREATED:20230602T072131Z
LAST-MODIFIED:20230602T072223Z
UID:11206-1686749400-1686753000@imas12.es
SUMMARY:Sesión Virtual i+12 - Dra. María Ruiz Ruigómez.
DESCRIPTION: “PostCOVID o Long COVID\, buscando causas y soluciones». Experiencia de los 3 último años” \nPonente: Dra. María Ruiz Ruigómez. Investigadora Juan Rodés\, Servicio de Medicina Interna  (H12O). Miembro del grupo de Investigación Patologías Infecciosas \, Área Enfermedades Infecciosas y SIDA –  Instituto i+12. \nLa sesión se impartirá a través de la Plataforma Zoom. \nSi quieres asistir por favor contactar con nosotros y te enviaremos los datos de acceso: \nEmail: calidad.imas12@h12o.es \nTfno.: 917792869
URL:https://imas12.es/actividad/sesion-virtual-i12-dra-maria-ruiz-ruigomez/
LOCATION:Evento Online-Plataforma Zoom
CATEGORIES:Investiga+12
END:VEVENT
END:VCALENDAR