BEGIN:VCALENDAR
VERSION:2.0
PRODID:-//i+12 - ECPv6.15.14//NONSGML v1.0//EN
CALSCALE:GREGORIAN
METHOD:PUBLISH
X-ORIGINAL-URL:https://imas12.es
X-WR-CALDESC:Eventos para i+12
REFRESH-INTERVAL;VALUE=DURATION:PT1H
X-Robots-Tag:noindex
X-PUBLISHED-TTL:PT1H
BEGIN:VTIMEZONE
TZID:Europe/Madrid
BEGIN:DAYLIGHT
TZOFFSETFROM:+0100
TZOFFSETTO:+0200
TZNAME:CEST
DTSTART:20210328T010000
END:DAYLIGHT
BEGIN:STANDARD
TZOFFSETFROM:+0200
TZOFFSETTO:+0100
TZNAME:CET
DTSTART:20211031T010000
END:STANDARD
BEGIN:DAYLIGHT
TZOFFSETFROM:+0100
TZOFFSETTO:+0200
TZNAME:CEST
DTSTART:20220327T010000
END:DAYLIGHT
BEGIN:STANDARD
TZOFFSETFROM:+0200
TZOFFSETTO:+0100
TZNAME:CET
DTSTART:20221030T010000
END:STANDARD
BEGIN:DAYLIGHT
TZOFFSETFROM:+0100
TZOFFSETTO:+0200
TZNAME:CEST
DTSTART:20230326T010000
END:DAYLIGHT
BEGIN:STANDARD
TZOFFSETFROM:+0200
TZOFFSETTO:+0100
TZNAME:CET
DTSTART:20231029T010000
END:STANDARD
END:VTIMEZONE
BEGIN:VEVENT
DTSTART;TZID=Europe/Madrid:20220223T141500
DTEND;TZID=Europe/Madrid:20220223T201500
DTSTAMP:20260421T074846
CREATED:20220221T064919Z
LAST-MODIFIED:20220222T084351Z
UID:9564-1645625700-1645647300@imas12.es
SUMMARY:V Reunión Internacional en Psiquiatría y Psicoterapia centrada en el paciente
DESCRIPTION:V Reunión Internacional en Psiquiatría y Psicoterapia centrada en el paciente – V Jornadas de la Sociedad Española de Psiquiatría Clínica. \nEstas jornadas están dedicadas a «la conducta suicida en adolescentes en tiempos de la COVID-19» \nLa sesión plenaria y las dos mesas que componen las jornadas se han diseñado para ofrecer un análisis riguroso que nos permita entender porque el suicidio se está instalando en nuestros jóvenes\, que estrategias psicoterapéuticas y farmacológicas son las más contrastadas para un correcto abordaje\, así como el impacto que esta situación genera en los profesionales de salud mental y en la organización de la asistencia a jóvenes. \nINSCRIPCIÓN: La inscripción se hará a través de la web de la Sociedad Española de Psiquiatría Clínica www.psiquiatriaclinica.es \nContacto: sepc2022@kenes.com  \nPrograma de la Jornada
URL:https://imas12.es/actividad/v-reunion-internacional-en-psiquiatria-y-psicoterapia-centrada-en-el-paciente/
LOCATION:Salón de Actos Edificio Materno Infantil\, Avda. de Córdoba s/n\, Madrid\, 28041\, España
CATEGORIES:Jornada
END:VEVENT
END:VCALENDAR