BEGIN:VCALENDAR
VERSION:2.0
PRODID:-//i+12 - ECPv6.15.14//NONSGML v1.0//EN
CALSCALE:GREGORIAN
METHOD:PUBLISH
X-ORIGINAL-URL:https://imas12.es
X-WR-CALDESC:Eventos para i+12
REFRESH-INTERVAL;VALUE=DURATION:PT1H
X-Robots-Tag:noindex
X-PUBLISHED-TTL:PT1H
BEGIN:VTIMEZONE
TZID:Europe/Madrid
BEGIN:DAYLIGHT
TZOFFSETFROM:+0100
TZOFFSETTO:+0200
TZNAME:CEST
DTSTART:20210328T010000
END:DAYLIGHT
BEGIN:STANDARD
TZOFFSETFROM:+0200
TZOFFSETTO:+0100
TZNAME:CET
DTSTART:20211031T010000
END:STANDARD
BEGIN:DAYLIGHT
TZOFFSETFROM:+0100
TZOFFSETTO:+0200
TZNAME:CEST
DTSTART:20220327T010000
END:DAYLIGHT
BEGIN:STANDARD
TZOFFSETFROM:+0200
TZOFFSETTO:+0100
TZNAME:CET
DTSTART:20221030T010000
END:STANDARD
BEGIN:DAYLIGHT
TZOFFSETFROM:+0100
TZOFFSETTO:+0200
TZNAME:CEST
DTSTART:20230326T010000
END:DAYLIGHT
BEGIN:STANDARD
TZOFFSETFROM:+0200
TZOFFSETTO:+0100
TZNAME:CET
DTSTART:20231029T010000
END:STANDARD
END:VTIMEZONE
BEGIN:VEVENT
DTSTART;TZID=Europe/Madrid:20220314T110000
DTEND;TZID=Europe/Madrid:20220315T000000
DTSTAMP:20260421T060432
CREATED:20220309T141701Z
LAST-MODIFIED:20220321T084052Z
UID:9688-1647255600-1647302400@imas12.es
SUMMARY:Taller técnico de la Consulta Preliminar al Mercado del proyecto "Quirófano Inteligente" Hospital Universitario 12 de Octubre
DESCRIPTION:El próximo 14 de marzo de 2022 a las 10:00 horas se celebrará\, en formato webinar\, un taller técnico de la Consulta Preliminar al Mercado del proyecto del Hospital Universitario 12 de Octubre: «Quirófano Inteligente». \n \nLa inscripción al taller es totalmente GRATUITA\, y se realiza a través del siguiente enlace*:\nhttps://attendee.gotowebinar.com/register/570313804358751756 \nLas personas inscritas recibirán el enlace web para poder seguir en directo el evento. \nEsta jornada está dirigida a todas aquellas personas físicas o jurídicas\, que tengan interés en la temática del proyecto y\, especialmente\, tengan capacidad para aportar una propuesta innovadora en el proyecto. \nAntecedentes \nEl pasado 3 de marzo se realizó la jornada de presentación de la Consulta Preliminar al Mercado del proyecto «Quirófano Inteligente»\, promovido por el Hospital Universitario 12 de Octubre. Esta jornada presentó el proyecto y tuvo el objetivo de aclarar la potencialidad del mercado frente al reto planteado. La información de dicho proyecto\, junto con el video de la sesión\, se pueden encontrar en la plataforma Vortal del Hospital Universitario 12 de Octubre. \nPor otro lado\, toda la documentación relativa a la CPM se puede encontrar en el Portal de la Contratación de la Comunidad de Madrid. \nPara dar continuidad al proyecto\, el Hospital Universitario 12 de Octubre celebra este taller en el cual se explicarán en detalle los aspectos más técnicos del proyecto. \nInvitamos a todos los participantes a realizar cualquier pregunta antes del viernes 11 de marzo a través de la plataforma Vortal (info@vortal.es) para poder ser contestada durante el evento. \nAGENDA DEL EVENTO \n10:00 – 10:10 Apertura \n10:10 – 10:30 Presentación de los detalles técnicos del proyecto de construcción del nuevo bloque quirúrgico del Hospital Universitario 12 de Octubre y de su equipamiento \n10:30 – 10:50 Descripción del alcance de los sistemas de información deseados \n10:50 – 11:00 Resolución de preguntas y cierre \nLa jornada será grabada para su posterior difusión en los medios oportunos. Para un desarrollo adecuado de la jornada\, los micrófonos de los asistentes estarán desactivados al unirse a la reunión. \n¡Le esperamos!
URL:https://imas12.es/actividad/taller-tecnico-cpm-quir-inteligente/
LOCATION:Evento Online
CATEGORIES:Jornada
END:VEVENT
END:VCALENDAR