BEGIN:VCALENDAR
VERSION:2.0
PRODID:-//i+12 - ECPv6.15.14//NONSGML v1.0//EN
CALSCALE:GREGORIAN
METHOD:PUBLISH
X-ORIGINAL-URL:https://imas12.es
X-WR-CALDESC:Eventos para i+12
REFRESH-INTERVAL;VALUE=DURATION:PT1H
X-Robots-Tag:noindex
X-PUBLISHED-TTL:PT1H
BEGIN:VTIMEZONE
TZID:Europe/Madrid
BEGIN:DAYLIGHT
TZOFFSETFROM:+0100
TZOFFSETTO:+0200
TZNAME:CEST
DTSTART:20210328T010000
END:DAYLIGHT
BEGIN:STANDARD
TZOFFSETFROM:+0200
TZOFFSETTO:+0100
TZNAME:CET
DTSTART:20211031T010000
END:STANDARD
BEGIN:DAYLIGHT
TZOFFSETFROM:+0100
TZOFFSETTO:+0200
TZNAME:CEST
DTSTART:20220327T010000
END:DAYLIGHT
BEGIN:STANDARD
TZOFFSETFROM:+0200
TZOFFSETTO:+0100
TZNAME:CET
DTSTART:20221030T010000
END:STANDARD
BEGIN:DAYLIGHT
TZOFFSETFROM:+0100
TZOFFSETTO:+0200
TZNAME:CEST
DTSTART:20230326T010000
END:DAYLIGHT
BEGIN:STANDARD
TZOFFSETFROM:+0200
TZOFFSETTO:+0100
TZNAME:CET
DTSTART:20231029T010000
END:STANDARD
END:VTIMEZONE
BEGIN:VEVENT
DTSTART;TZID=Europe/Madrid:20220607T100000
DTEND;TZID=Europe/Madrid:20220607T220000
DTSTAMP:20260421T012330
CREATED:20220525T101403Z
LAST-MODIFIED:20220602T101421Z
UID:10087-1654596000-1654639200@imas12.es
SUMMARY:I Reunión Anual Red RICORS-ICTUS
DESCRIPTION:La I Reunión Anual Red RICORS-ICTUS se celebrará los días 7 y 8 de junio de 2022 de 10:30 a 19:00 h y de 09:00 a 14:00 h respectivamente\, en el Salón de Actos del Edificio Materno Infantil. El evento será retransmitido en directo a través de la plataforma TEAMS. \nReunión organizada por el Área 8 investigación; Unidad de Investigación Neurovascular y Coordinada por el Dr. Ignacio Lizasoain Hernández. \nPrograma Reunión Red RICOS-ICTUS  \nCartel Informativo (en el que encontrarás los link de acceso a TEAMS y código QR)
URL:https://imas12.es/actividad/i-reunion-anual-red-ricors-ictus/
LOCATION:Salón de Actos Edificio Materno Infantil\, Avda. de Córdoba s/n\, Madrid\, 28041\, España
CATEGORIES:Jornada
END:VEVENT
END:VCALENDAR