BEGIN:VCALENDAR
VERSION:2.0
PRODID:-//i+12 - ECPv6.15.14//NONSGML v1.0//EN
CALSCALE:GREGORIAN
METHOD:PUBLISH
X-ORIGINAL-URL:https://imas12.es
X-WR-CALDESC:Eventos para i+12
REFRESH-INTERVAL;VALUE=DURATION:PT1H
X-Robots-Tag:noindex
X-PUBLISHED-TTL:PT1H
BEGIN:VTIMEZONE
TZID:Europe/Madrid
BEGIN:DAYLIGHT
TZOFFSETFROM:+0100
TZOFFSETTO:+0200
TZNAME:CEST
DTSTART:20220327T010000
END:DAYLIGHT
BEGIN:STANDARD
TZOFFSETFROM:+0200
TZOFFSETTO:+0100
TZNAME:CET
DTSTART:20221030T010000
END:STANDARD
BEGIN:DAYLIGHT
TZOFFSETFROM:+0100
TZOFFSETTO:+0200
TZNAME:CEST
DTSTART:20230326T010000
END:DAYLIGHT
BEGIN:STANDARD
TZOFFSETFROM:+0200
TZOFFSETTO:+0100
TZNAME:CET
DTSTART:20231029T010000
END:STANDARD
BEGIN:DAYLIGHT
TZOFFSETFROM:+0100
TZOFFSETTO:+0200
TZNAME:CEST
DTSTART:20240331T010000
END:DAYLIGHT
BEGIN:STANDARD
TZOFFSETFROM:+0200
TZOFFSETTO:+0100
TZNAME:CET
DTSTART:20241027T010000
END:STANDARD
END:VTIMEZONE
BEGIN:VEVENT
DTSTART;TZID=Europe/Madrid:20231214T100000
DTEND;TZID=Europe/Madrid:20231214T140000
DTSTAMP:20260419T223658
CREATED:20231121T130904Z
LAST-MODIFIED:20231121T130922Z
UID:11758-1702548000-1702562400@imas12.es
SUMMARY:Jornada Informativa Oportunidades de Financiación en el ámbito de la Biomedicina y la Salud en 2024 (AEI-ISCIII-CDTI-FECYT)
DESCRIPTION:El Instituto de Salud Carlos III (ISCIII)\, junto con la Fundación Española para la Ciencia y la Tecnología (FECYT)\, el Centro para el Desarrollo Tecnológico Industrial (CDTI) y la Agencia Estatal de Investigación (AEI) celebrarán una jornada informativa sobre las oportunidades de financiación en el ámbito de la biomedicina y la salud en 2024. La jornada se celebrará de manera presencial en el salón de actos del ISCIII y también online el 14 de diciembre de 2023. \nRegistro \nAgenda de la Jornada
URL:https://imas12.es/actividad/jornada-informativa-aei-isciii-cdti-fecyt-oportunidades-de-financiacion-en-el-ambito-de-la-biomedicina-y-la-salud-en-2024/
LOCATION:Salón de Actos Ernest Lluch\, Instituto de Salud Carlos III y retransmisión online\, Av. de Monforte de Lemos\, 5\, Madrid\, Madrid\, 28029\, España
CATEGORIES:Jornada
END:VEVENT
BEGIN:VEVENT
DTSTART;TZID=Europe/Madrid:20231214T170000
DTEND;TZID=Europe/Madrid:20231214T183000
DTSTAMP:20260419T223658
CREATED:20231130T134440Z
LAST-MODIFIED:20231130T134440Z
UID:11793-1702573200-1702578600@imas12.es
SUMMARY:Jornadas CMV GLOBAL
DESCRIPTION:La Unidad de Enfermedades Infecciosas del H12O – i+12\, organiza la ACTIVIDAD ONLINE: \nJornadas CMV GLOBAL \n\nJueves 14 de diciembre de 2023\, de 17:00 h a 18:30 h.\nJueves 8 de febrero de 2024\, de 17:00 a 18:00 h.\n\nPROGRAMA DE LAS JORNADAS
URL:https://imas12.es/actividad/jornadas-cmv-global/
LOCATION:Evento Online-Plataforma Zoom
CATEGORIES:Jornada
END:VEVENT
END:VCALENDAR