BEGIN:VCALENDAR
VERSION:2.0
PRODID:-//i+12 - ECPv6.15.14//NONSGML v1.0//EN
CALSCALE:GREGORIAN
METHOD:PUBLISH
X-ORIGINAL-URL:https://imas12.es
X-WR-CALDESC:Eventos para i+12
REFRESH-INTERVAL;VALUE=DURATION:PT1H
X-Robots-Tag:noindex
X-PUBLISHED-TTL:PT1H
BEGIN:VTIMEZONE
TZID:Europe/Madrid
BEGIN:DAYLIGHT
TZOFFSETFROM:+0100
TZOFFSETTO:+0200
TZNAME:CEST
DTSTART:20190331T010000
END:DAYLIGHT
BEGIN:STANDARD
TZOFFSETFROM:+0200
TZOFFSETTO:+0100
TZNAME:CET
DTSTART:20191027T010000
END:STANDARD
BEGIN:DAYLIGHT
TZOFFSETFROM:+0100
TZOFFSETTO:+0200
TZNAME:CEST
DTSTART:20200329T010000
END:DAYLIGHT
BEGIN:STANDARD
TZOFFSETFROM:+0200
TZOFFSETTO:+0100
TZNAME:CET
DTSTART:20201025T010000
END:STANDARD
BEGIN:DAYLIGHT
TZOFFSETFROM:+0100
TZOFFSETTO:+0200
TZNAME:CEST
DTSTART:20210328T010000
END:DAYLIGHT
BEGIN:STANDARD
TZOFFSETFROM:+0200
TZOFFSETTO:+0100
TZNAME:CET
DTSTART:20211031T010000
END:STANDARD
END:VTIMEZONE
BEGIN:VEVENT
DTSTART;TZID=Europe/Madrid:20201113T120000
DTEND;TZID=Europe/Madrid:20201113T130000
DTSTAMP:20260424T123540
CREATED:20201019T091421Z
LAST-MODIFIED:20211025T095230Z
UID:8125-1605268800-1605272400@imas12.es
SUMMARY:Semana de la Ciencia y la Innovación 2020 – NEMESIS: Herramientas ópticas para la cirugía de tumores cerebrales
DESCRIPTION:Plazas disponibles\nReserva de actividades a partir del 19 de octubre a las 9:00 \nHorario: Viernes 13 de Noviembre de 11:00 a 12:00 \nDisciplina: Medicina \nPúblico al que va dirigido: \n\nPúblico Individual: Público General\, Público universitario\, Estudiantes ESO\, Bachillerato y Ciclos Formativos\nGrupos Organizados: Público General\, Público universitario\, Estudiantes ESO\, Bachillerato y Ciclos Formativos\n\nPonentes: Alfonso Lagares \, Jefe de Servicio Neurocirugía Hospital 12 Octubre \nDescripción de la actividad: Webinar con relación al cambio en el manejo diagnóstico del traumatismo craneal leve. Los tumores cerebrales son difíciles de diferenciar del cerebro normal. Un grupo de ingenieros de la UPM se ha aliado con el H12+imas12 para desarrollar una nueva herramienta que presentar al público. \nINF./RESERVA : Es necesario hacer reserva.\nTfno: 917792625/28\nEmail: innovacion.imas12@h12o.es\n\nORGANIZA: Instituto de Investigación Hospital 12 de Octubre / Unidad de Apoyo a la Innovación
URL:https://imas12.es/actividad/semana-de-la-ciencia-y-la-innovacion-2020-nemesis-herramientas-opticas-para-la-cirugia-de-tumores-cerebrales/
LOCATION:Evento Online
CATEGORIES:Cursos
END:VEVENT
BEGIN:VEVENT
DTSTART;TZID=Europe/Madrid:20201114T120000
DTEND;TZID=Europe/Madrid:20201114T130000
DTSTAMP:20260424T123540
CREATED:20201019T090654Z
LAST-MODIFIED:20211025T095230Z
UID:8098-1605355200-1605358800@imas12.es
SUMMARY:Semana de la Ciencia y la Innovación 2020 - BRAINI: Cómo cambiar el manejo diagnóstico de un problema frecuente: El traumatismo craneal leve.
DESCRIPTION:Plazas disponibles\nReserva de actividades a partir del 19 de octubre a las 9:00 \nHorario: Sábado 14 de Noviembre de 11:00 a 12:00 \nDisciplina: Medicina \nPúblico al que va dirigido: \n\nPúblico Individual: Público General\, Público universitario\, Estudiantes ESO\, Bachillerato y Ciclos Formativos\nGrupos Organizados: Público General\, Público universitario\, Estudiantes ESO\, Bachillerato y Ciclos Formativos\n\nPonentes: Alfonso Lagares \, Jefe de Servicio Neurocirugía Hospital 12 Octubre \nDescripción de la actividad: Webinar con relación al cambio en el manejo diagnóstico del traumatismo craneal leve. \nINF./RESERVA : Es necesario hacer reserva.\nTfno: 917792625/28\nEmail: innovacion.imas12@h12o.es\n\nORGANIZA: Instituto de Investigación Hospital 12 de Octubre / Unidad de Apoyo a la Innovación\n\n 
URL:https://imas12.es/actividad/semana-de-la-ciencia-y-la-innovacion-2020-braini/
LOCATION:Evento Online
CATEGORIES:Cursos
END:VEVENT
END:VCALENDAR