BEGIN:VCALENDAR
VERSION:2.0
PRODID:-//i+12 - ECPv6.15.14//NONSGML v1.0//EN
CALSCALE:GREGORIAN
METHOD:PUBLISH
X-WR-CALNAME:i+12
X-ORIGINAL-URL:https://imas12.es
X-WR-CALDESC:Eventos para i+12
REFRESH-INTERVAL;VALUE=DURATION:PT1H
X-Robots-Tag:noindex
X-PUBLISHED-TTL:PT1H
BEGIN:VTIMEZONE
TZID:Europe/Madrid
BEGIN:DAYLIGHT
TZOFFSETFROM:+0100
TZOFFSETTO:+0200
TZNAME:CEST
DTSTART:20220327T010000
END:DAYLIGHT
BEGIN:STANDARD
TZOFFSETFROM:+0200
TZOFFSETTO:+0100
TZNAME:CET
DTSTART:20221030T010000
END:STANDARD
BEGIN:DAYLIGHT
TZOFFSETFROM:+0100
TZOFFSETTO:+0200
TZNAME:CEST
DTSTART:20230326T010000
END:DAYLIGHT
BEGIN:STANDARD
TZOFFSETFROM:+0200
TZOFFSETTO:+0100
TZNAME:CET
DTSTART:20231029T010000
END:STANDARD
BEGIN:DAYLIGHT
TZOFFSETFROM:+0100
TZOFFSETTO:+0200
TZNAME:CEST
DTSTART:20240331T010000
END:DAYLIGHT
BEGIN:STANDARD
TZOFFSETFROM:+0200
TZOFFSETTO:+0100
TZNAME:CET
DTSTART:20241027T010000
END:STANDARD
END:VTIMEZONE
BEGIN:VEVENT
DTSTART;TZID=Europe/Madrid:20231107T120000
DTEND;TZID=Europe/Madrid:20231107T133000
DTSTAMP:20260420T024606
CREATED:20231019T104453Z
LAST-MODIFIED:20231121T111501Z
UID:11563-1699358400-1699363800@imas12.es
SUMMARY:Daño cerebral traumático: Compartiendo visiones y esperanzas.
DESCRIPTION:Plazas disponibles \nSemana de la Ciencia y la Innovación 2023\nReserva de actividades a partir del 23 de octubre 2023 a las 9:00 h  \nActividad PRESENCIAL – Salón de Actos- Edifico Materno Infantil H12O. \nHorario: Martes 7 de noviembre 2023\, de 12:00 a 13:30 h \nDisciplina: Medicina\, Otros. \nTipo de Actividad: Mesa redonda\, conferencia. \nPúblico al que va dirigido: \n\nPúblico Individual: Público General\, Público universitario.\nGrupos Organizados: Público General\, Público universitario.\n\nPonente:  \n\nAlfonso Lagares\, Jefe de Servicio Neurocirurgía – H12O.\nAlicia Artiaga\, Asociación Daño Cerebral Invisible.\nAna María Castaño-León\, Neurocirugía – H12O.\nAurora Lassaletta\, Presidenta Asociación Daño Cerebral Invisible.\nMarcos Ríos\, Neuropsicología. Hospital Beata María Ana. Unidad de Daño Cerebral.\n\nDescripción de la actividad: Se tratará la problemática del daño cerebral traumático adquirido\, compartiendo la visión de pacientes\, familiares y profesionales. Se expondrán los desarrollos diagnósticos de los estudios BRAINI- BRAINI2 y otros\, en los que se buscan biomarcadores para mejorar el entendimiento de la fisiopatología y el pronóstico del daño cerebral traumático. \nINF./RESERVA : Es necesario hacer reserva.\nEmail: innovacion.imas12@h12o.es; calidad.imas12@h12o.es; alfonlag@ucm.es \nORGANIZA: Instituto de investigación i+12 / Unidad de Apoyo a la innovación i+12
URL:https://imas12.es/actividad/semana-de-la-ciencia-y-la-innovacion-2023-dano-cerebral-traumatico-compartiendo-visiones-y-esperanzas/
LOCATION:Salón de Actos Edificio Materno Infantil\, Avda. de Córdoba s/n\, Madrid\, 28041\, España
CATEGORIES:Ciencia +12,Jornadas
END:VEVENT
BEGIN:VEVENT
DTSTART;TZID=Europe/Madrid:20231107T120000
DTEND;TZID=Europe/Madrid:20231107T140000
DTSTAMP:20260420T024606
CREATED:20231019T103112Z
LAST-MODIFIED:20231121T111541Z
UID:11556-1699358400-1699365600@imas12.es
SUMMARY:Jornada Puertas Abiertas Biobanco i+12. Los Biobancos como Herramienta de Investigación Biomédica.
DESCRIPTION:Plazas disponibles\nSemana de la Ciencia y la Innovación 2023\nReserva de actividades a partir del 23 de octubre 2023 a las 9:00 h  \nActividad PRESENCIAL \nHorario: Martes 7 de noviembre 2023 de 12:00 a 14:00 h. \nDisciplina: Biología Molecular\, Celular y Genética\, Medicina \nPúblico al que va dirigido: \n\nPúblico Individual: Público General\, Público universitario\, Estudiantes ESO\, Bachillerato y Ciclos Formativos\nGrupos Organizados: Público General\, Público universitario\, Estudiantes ESO\, Bachillerato y Ciclos Formativos\n\nDescripción de la actividad: El objetivo de la actividad es divulgar el concepto de biobanco como herramienta de investigación biomédica. Se explicará qué es un biobanco hospitalario de investigación\, para que sirve\, quién lo puede utilizar\, cómo se procesan las muestras etc. \nTras la sesión informativa\, se hará una visita guiada por las instalaciones del Biobanco. \nINF./RESERVA : Es necesario hacer reserva.\nEmail: alicia.maroto@salud.madrid; innovacion.imas12@h12o.es; calidad.imas12@h12o.es; \nORGANIZA: Biobanco Hospital Universitario 12 de Octubre / Unidad de Apoyo a la innovación i+12
URL:https://imas12.es/actividad/semana-de-la-ciencia-y-la-innovacion-2023-jornada-puertas-abiertas-biobanco-i12-los-biobancos-como-herramienta-de-investigacion-biomedica/
LOCATION:Biobanco – H12O
CATEGORIES:Ciencia +12,Jornadas
END:VEVENT
END:VCALENDAR