BEGIN:VCALENDAR
VERSION:2.0
PRODID:-//i+12 - ECPv6.15.14//NONSGML v1.0//EN
CALSCALE:GREGORIAN
METHOD:PUBLISH
X-WR-CALNAME:i+12
X-ORIGINAL-URL:https://imas12.es
X-WR-CALDESC:Eventos para i+12
REFRESH-INTERVAL;VALUE=DURATION:PT1H
X-Robots-Tag:noindex
X-PUBLISHED-TTL:PT1H
BEGIN:VTIMEZONE
TZID:Europe/Madrid
BEGIN:DAYLIGHT
TZOFFSETFROM:+0100
TZOFFSETTO:+0200
TZNAME:CEST
DTSTART:20220327T010000
END:DAYLIGHT
BEGIN:STANDARD
TZOFFSETFROM:+0200
TZOFFSETTO:+0100
TZNAME:CET
DTSTART:20221030T010000
END:STANDARD
BEGIN:DAYLIGHT
TZOFFSETFROM:+0100
TZOFFSETTO:+0200
TZNAME:CEST
DTSTART:20230326T010000
END:DAYLIGHT
BEGIN:STANDARD
TZOFFSETFROM:+0200
TZOFFSETTO:+0100
TZNAME:CET
DTSTART:20231029T010000
END:STANDARD
BEGIN:DAYLIGHT
TZOFFSETFROM:+0100
TZOFFSETTO:+0200
TZNAME:CEST
DTSTART:20240331T010000
END:DAYLIGHT
BEGIN:STANDARD
TZOFFSETFROM:+0200
TZOFFSETTO:+0100
TZNAME:CET
DTSTART:20241027T010000
END:STANDARD
END:VTIMEZONE
BEGIN:VEVENT
DTSTART;TZID=Europe/Madrid:20231113T090000
DTEND;TZID=Europe/Madrid:20231113T140000
DTSTAMP:20260420T024635
CREATED:20231019T103234Z
LAST-MODIFIED:20231121T111322Z
UID:11560-1699866000-1699884000@imas12.es
SUMMARY:Misterios del corazón: la imagen cardíaca al servicio de la salud.
DESCRIPTION:Plazas disponibles \nSemana de la Ciencia y la Innovación 2023\nReserva de actividades a partir del 23 de octubre 2023 a las 9:00 h  \nActividad PRESENCIAL \nHorario: Lunes 13 de noviembre 2023. Dos talleres en horario de 9:00 a 11:00 y de 12:00 a 14:00 h \nDisciplina: Medicina\, Otros. \nPúblico al que va dirigido: \n\nGrupos Organizados: Estudiantes ESO\, Bachillerato y Ciclos Formativoss\n\nPonente: Jorge Solís Martín \, Responsable del grupo de Imagen Cardiovascular\, Instituto de Investigación Hospital 12 de Octubre \nDescripción de la actividad: Taller en el que se presentarán de forma práctica distintas técnicas de imagen cardiaca y su aplicación en el diagnóstico y seguimiento de enfermedades cardiovasculares. \nINF./RESERVA : Es necesario hacer reserva.\nEmail: cardioinvestigacion@h12o.es; innovacion.imas12@h12o.es; calidad.imas12@h12o.es \nORGANIZA: Instituto de investigación i+12 / Unidad de Apoyo a la innovación i+12
URL:https://imas12.es/actividad/semana-de-la-ciencia-y-la-innovacion-2023-misterios-del-corazon-la-imagen-cardiaca-al-servicio-de-la-salud/
LOCATION:Servicio de Cardiología – H12O
CATEGORIES:Ciencia +12,Cursos,Jornadas
END:VEVENT
END:VCALENDAR