BEGIN:VCALENDAR
VERSION:2.0
PRODID:-//i+12 - ECPv6.15.14//NONSGML v1.0//EN
CALSCALE:GREGORIAN
METHOD:PUBLISH
X-WR-CALNAME:i+12
X-ORIGINAL-URL:https://imas12.es
X-WR-CALDESC:Eventos para i+12
REFRESH-INTERVAL;VALUE=DURATION:PT1H
X-Robots-Tag:noindex
X-PUBLISHED-TTL:PT1H
BEGIN:VTIMEZONE
TZID:Europe/Madrid
BEGIN:DAYLIGHT
TZOFFSETFROM:+0100
TZOFFSETTO:+0200
TZNAME:CEST
DTSTART:20220327T010000
END:DAYLIGHT
BEGIN:STANDARD
TZOFFSETFROM:+0200
TZOFFSETTO:+0100
TZNAME:CET
DTSTART:20221030T010000
END:STANDARD
BEGIN:DAYLIGHT
TZOFFSETFROM:+0100
TZOFFSETTO:+0200
TZNAME:CEST
DTSTART:20230326T010000
END:DAYLIGHT
BEGIN:STANDARD
TZOFFSETFROM:+0200
TZOFFSETTO:+0100
TZNAME:CET
DTSTART:20231029T010000
END:STANDARD
BEGIN:DAYLIGHT
TZOFFSETFROM:+0100
TZOFFSETTO:+0200
TZNAME:CEST
DTSTART:20240331T010000
END:DAYLIGHT
BEGIN:STANDARD
TZOFFSETFROM:+0200
TZOFFSETTO:+0100
TZNAME:CET
DTSTART:20241027T010000
END:STANDARD
END:VTIMEZONE
BEGIN:VEVENT
DTSTART;TZID=Europe/Madrid:20231116T093000
DTEND;TZID=Europe/Madrid:20231116T130000
DTSTAMP:20260420T024636
CREATED:20231020T105739Z
LAST-MODIFIED:20231121T111236Z
UID:11565-1700127000-1700139600@imas12.es
SUMMARY:Células iPS: Nuestras aliadas para el estudio de enfermedades y para la búsqueda de tratamientos.
DESCRIPTION:Plazas disponibles \nSemana de la Ciencia y la Innovación 2023 \nReserva de actividades a partir del 23 de octubre 2023 a las 9:00 h \nActividad PRESENCIAL \nHorario: Jueves 16 de noviembre 2023\, de 9:30 a 13:00 h \nDisciplina: Biología Molecular\, Celular y Genética. \nTipo de Actividad: Taller. \nPúblico al que va dirigido: \n\nGrupos Organizados: Público General.\n\nDescripción de la actividad: Curso/ taller formativo en el que se explicará/ mostrará en qué consiste la tecnología de células iPS y su aplicación al estudio de las enfermedades y a la búsqueda de terapias. \nINF./RESERVA : Es necesario hacer reserva.\nEmail: egallardo.imas12@h12o.es innovacion.imas12@h12o.es; calidad.imas12@h12o.es \nORGANIZA: Instituto de investigación i+12 / Unidad de Apoyo a la innovación i+12
URL:https://imas12.es/actividad/semana-de-la-ciencia-y-la-innovacion-2023-celulas-ips-nuestras-aliadas-para-el-estudio-de-enfermedades-y-para-la-busqueda-de-tratamientos/
LOCATION:Laboratorio Células iPS – Instituto i+12
CATEGORIES:Ciencia +12,Cursos,Jornadas
END:VEVENT
END:VCALENDAR