BEGIN:VCALENDAR
VERSION:2.0
PRODID:-//i+12 - ECPv6.15.14//NONSGML v1.0//EN
CALSCALE:GREGORIAN
METHOD:PUBLISH
X-ORIGINAL-URL:https://imas12.es
X-WR-CALDESC:Eventos para i+12
REFRESH-INTERVAL;VALUE=DURATION:PT1H
X-Robots-Tag:noindex
X-PUBLISHED-TTL:PT1H
BEGIN:VTIMEZONE
TZID:Europe/Madrid
BEGIN:DAYLIGHT
TZOFFSETFROM:+0100
TZOFFSETTO:+0200
TZNAME:CEST
DTSTART:20200329T010000
END:DAYLIGHT
BEGIN:STANDARD
TZOFFSETFROM:+0200
TZOFFSETTO:+0100
TZNAME:CET
DTSTART:20201025T010000
END:STANDARD
BEGIN:DAYLIGHT
TZOFFSETFROM:+0100
TZOFFSETTO:+0200
TZNAME:CEST
DTSTART:20210328T010000
END:DAYLIGHT
BEGIN:STANDARD
TZOFFSETFROM:+0200
TZOFFSETTO:+0100
TZNAME:CET
DTSTART:20211031T010000
END:STANDARD
BEGIN:DAYLIGHT
TZOFFSETFROM:+0100
TZOFFSETTO:+0200
TZNAME:CEST
DTSTART:20220327T010000
END:DAYLIGHT
BEGIN:STANDARD
TZOFFSETFROM:+0200
TZOFFSETTO:+0100
TZNAME:CET
DTSTART:20221030T010000
END:STANDARD
END:VTIMEZONE
BEGIN:VEVENT
DTSTART;TZID=Europe/Madrid:20210317T150000
DTEND;TZID=Europe/Madrid:20210317T163000
DTSTAMP:20260424T043647
CREATED:20210315T063339Z
LAST-MODIFIED:20211013T111802Z
UID:8558-1615993200-1615998600@imas12.es
SUMMARY:UCC+i-Charla – coloquio: «Las mujeres en la Escuela de Cajal».
DESCRIPTION:El miércoles 17 de marzo de 2021 a las 14:00 h\, el Dr. Fernando de Castro\, científico titular del CSIC adscrito al Instituto Cajal\, ofrecerá con motivo de la celebración del Día Internacional de la Mujer la conferencia «Las mujeres en la Escuela de Cajal». \nLa charla-coloquio tendrá un formato de conferencia On-Line en directo y se celebrará a través de la plataforma TEAMS. \nAcceso TEAMS: https://n9.cl/t4bmp  \nCartel Informativo Charla-Coloquio \nQR acceso evento
URL:https://imas12.es/actividad/charla-coloquio-las-mujeres-en-la-escuela-de-cajal/
LOCATION:Evento Online en directo
CATEGORIES:UCC+i
END:VEVENT
BEGIN:VEVENT
DTSTART;TZID=Europe/Madrid:20210325T150000
DTEND;TZID=Europe/Madrid:20210325T163000
DTSTAMP:20260424T043647
CREATED:20210323T062558Z
LAST-MODIFIED:20211013T111802Z
UID:8550-1616684400-1616689800@imas12.es
SUMMARY:UCC+i - Lectura Dramatizada de la vida de “Pierre y Marie Curie. Ellos Mismos”
DESCRIPTION:La Unidad de Cultura Científica y de la Innovación (UCC+i) del Instituto de Investigación i+12 organiza el jueves 25 de marzo de 2021 a las 14:00 horas\, el evento: \nLectura Dramatizada de la vida de “Pierre y Marie Curie. Ellos Mismos” \nPirre Curie será interpretado por el gran actor D. Manuel Galiana y la interpretación de Marie Curie recaerá en Dña. Sonnia L. Rivas-Caballero.  \nLa lectura dramatizada tendrá un formato de evento On-Line en directo y se celebrará a través de la plataforma TEAMS. \nAcceso TEAMS: https:/n9.cl/k9e23 \nCartel Informativo Lectura Dramatizada \nQR Acceso evento \nEsta actividad  cuenta con la colaboración de la Fundación Española para la Ciencia y la Tecnología-Ministerio de Ciencia e Innovación.
URL:https://imas12.es/actividad/lectura-dramatizada-de-la-vida-de-pierre-y-marie-curie-ellos-mismos/
LOCATION:Evento Online en directo
CATEGORIES:UCC+i
END:VEVENT
END:VCALENDAR