BEGIN:VCALENDAR
VERSION:2.0
PRODID:-//i+12 - ECPv6.15.14//NONSGML v1.0//EN
CALSCALE:GREGORIAN
METHOD:PUBLISH
X-WR-CALNAME:i+12
X-ORIGINAL-URL:https://imas12.es
X-WR-CALDESC:Eventos para i+12
REFRESH-INTERVAL;VALUE=DURATION:PT1H
X-Robots-Tag:noindex
X-PUBLISHED-TTL:PT1H
BEGIN:VTIMEZONE
TZID:Europe/Madrid
BEGIN:DAYLIGHT
TZOFFSETFROM:+0100
TZOFFSETTO:+0200
TZNAME:CEST
DTSTART:20200329T010000
END:DAYLIGHT
BEGIN:STANDARD
TZOFFSETFROM:+0200
TZOFFSETTO:+0100
TZNAME:CET
DTSTART:20201025T010000
END:STANDARD
BEGIN:DAYLIGHT
TZOFFSETFROM:+0100
TZOFFSETTO:+0200
TZNAME:CEST
DTSTART:20210328T010000
END:DAYLIGHT
BEGIN:STANDARD
TZOFFSETFROM:+0200
TZOFFSETTO:+0100
TZNAME:CET
DTSTART:20211031T010000
END:STANDARD
BEGIN:DAYLIGHT
TZOFFSETFROM:+0100
TZOFFSETTO:+0200
TZNAME:CEST
DTSTART:20220327T010000
END:DAYLIGHT
BEGIN:STANDARD
TZOFFSETFROM:+0200
TZOFFSETTO:+0100
TZNAME:CET
DTSTART:20221030T010000
END:STANDARD
END:VTIMEZONE
BEGIN:VEVENT
DTSTART;TZID=Europe/Madrid:20210511T150000
DTEND;TZID=Europe/Madrid:20210511T170000
DTSTAMP:20260424T015605
CREATED:20210504T044450Z
LAST-MODIFIED:20211013T111802Z
UID:8677-1620745200-1620752400@imas12.es
SUMMARY:UCC+i - Taller de Divulgación Científica
DESCRIPTION:El martes 11 de mayo de 2021 de 13:00 – 15: 00 horas\, D. Álvaro Morales Molina\, investigador en el Instituto de Salud Carlos III\, impartirá la actividad: “Taller de Divulgación Científica” \nAunque el formato del taller será preferentemente ONLINE (visualización online en directo a través de la Plataforma TEAMS)\, se reservarán 25 PLAZAS PARA ASISTENTES PRESENCIALES (Salón de Actos Edificio Materno-Infantil) que serán adjudicadas por riguroso orden de inscripción. \nFormulario de Inscripción \nPrograma Taller \nPuedes acceder al evento en directo escaneando este código QR o pinchando en el siguiente enlace: Acceso Taller Divulgación. \nEsta actividad  cuenta con la colaboración de la Fundación Española para la Ciencia y la Tecnología-Ministerio de Ciencia e Innovación.
URL:https://imas12.es/actividad/ucci-taller-de-divulgacion-cientifica/
LOCATION:Presencial + Visualización Online en directo
CATEGORIES:UCC+i
END:VEVENT
BEGIN:VEVENT
DTSTART;TZID=Europe/Madrid:20210513T150000
DTEND;TZID=Europe/Madrid:20210513T160000
DTSTAMP:20260424T015605
CREATED:20210510T055804Z
LAST-MODIFIED:20211013T111802Z
UID:8710-1620918000-1620921600@imas12.es
SUMMARY:UCC+i -Presentación de la rosa dedicada a Santiago Ramón y Cajal
DESCRIPTION:El jueves 13 de mayo de 2021 a las 13:00 h\, con motivo de la clausura de la exposición Filatelia y Salud\, la Unidad de Cultura Científica y de la Innovación (UCC+i) del Instituto de Investigación i+12 organiza el evento «Presentación de la rosa dedicada a Santiago Ramón y Cajal». El evento consta de dos conferencias: \n\n13:00 h. Conferencia «Cómo he creado la rosa Santiago Ramón y Cajal». Impartida por la hibridadora Matilde Ferrer\, quien ha dedicado una rosa amarilla al eminente científico.\n13: 30 h. Conferencia «Cajal y las espinas dendríticas». Impartida por Javier DeFelipe. Profesor de Investigación Instituto Cajal-CSIC.\n\nEl evento tendrá un formato de conferencia On-Line en directo y se celebrará a través de la plataforma TEAMS. \nAcceso TEAMS \nCartel Informativo Conferencia \nQR acceso evento
URL:https://imas12.es/actividad/ucci-presentacion-de-la-rosa-dedicada-a-santiago-ramon-y-cajal/
LOCATION:Evento Online en directo
CATEGORIES:UCC+i
END:VEVENT
END:VCALENDAR