BEGIN:VCALENDAR
VERSION:2.0
PRODID:-//i+12 - ECPv6.15.14//NONSGML v1.0//EN
CALSCALE:GREGORIAN
METHOD:PUBLISH
X-ORIGINAL-URL:https://imas12.es
X-WR-CALDESC:Eventos para i+12
REFRESH-INTERVAL;VALUE=DURATION:PT1H
X-Robots-Tag:noindex
X-PUBLISHED-TTL:PT1H
BEGIN:VTIMEZONE
TZID:Europe/Madrid
BEGIN:DAYLIGHT
TZOFFSETFROM:+0100
TZOFFSETTO:+0200
TZNAME:CEST
DTSTART:20250330T010000
END:DAYLIGHT
BEGIN:STANDARD
TZOFFSETFROM:+0200
TZOFFSETTO:+0100
TZNAME:CET
DTSTART:20251026T010000
END:STANDARD
BEGIN:DAYLIGHT
TZOFFSETFROM:+0100
TZOFFSETTO:+0200
TZNAME:CEST
DTSTART:20260329T010000
END:DAYLIGHT
BEGIN:STANDARD
TZOFFSETFROM:+0200
TZOFFSETTO:+0100
TZNAME:CET
DTSTART:20261025T010000
END:STANDARD
BEGIN:DAYLIGHT
TZOFFSETFROM:+0100
TZOFFSETTO:+0200
TZNAME:CEST
DTSTART:20270328T010000
END:DAYLIGHT
BEGIN:STANDARD
TZOFFSETFROM:+0200
TZOFFSETTO:+0100
TZNAME:CET
DTSTART:20271031T010000
END:STANDARD
END:VTIMEZONE
BEGIN:VEVENT
DTSTART;TZID=Europe/Madrid:20260421T160000
DTEND;TZID=Europe/Madrid:20260421T190000
DTSTAMP:20260420T170341
CREATED:20260406T133541Z
LAST-MODIFIED:20260406T133547Z
UID:15116-1776787200-1776798000@imas12.es
SUMMARY:CURSO GESTIÓN DE DATOS CLÍNICOS Y REDCAP - 2026
DESCRIPTION:OBJETIVO: Capacitar a los participantes en el uso básico y seguro de REDCap para diseñar proyectos simples\, crear cuadernos/instrumentos (formularios)\, capturar y exportar datos\, así como aplicar buenas prácticas de calidad y gestión de usuarios en el contexto hospitalario. \nCurso presencial de 10 h de duración. \nFECHAS:  \n\nDías 21 y 23 de abril de 2026 de 16 a 19 h.\nDía 28 de abril de 2026 de 16 a 20 h.\n\nLUGAR: Aula de Informática nº 1\, 6ª planta\, bloque D del CAA.  \nFORMULARIO DE INSCRIPCIÓN  \nMás información
URL:https://imas12.es/actividad/curso-gestion-de-datos-clinicos-y-redcap-2026/
LOCATION:Aula 1 de informática. 6ª\, bloque D. CAA\, Avda. de Córdoba s/n\, Madrid\, Madrid\, 28041\, Spain
CATEGORIES:Cursos
END:VEVENT
BEGIN:VEVENT
DTSTART;TZID=Europe/Madrid:20260424T083000
DTEND;TZID=Europe/Madrid:20260424T173000
DTSTAMP:20260420T170341
CREATED:20260306T112457Z
LAST-MODIFIED:20260306T112516Z
UID:15051-1777019400-1777051800@imas12.es
SUMMARY:Curso SIMULACIÓN CLÍNICA MEPA ® MADRID
DESCRIPTION:OBJETIVO:  Entrenar el manejo estructurado de crisis anestésicas pediátricas y trabajo en equipo mediante escenarios estandarizados y debriefing experto. \nFECHAS: 24 de Abril \nHORARIOS: De 8:30 a 17:30 (9 horas) \nLUGAR: Centro de Simulación Clínica Avanzada. Hospital 12 de Octubre. Madrid \nFORMULARIO DE INSCRIPCIÓN  \nMás Información
URL:https://imas12.es/actividad/15051/
LOCATION:Centro de Formación y Simulación Avanzada del Hospital Universitario 12 de octubre
END:VEVENT
BEGIN:VEVENT
DTSTART;TZID=Europe/Madrid:20260505T160000
DTEND;TZID=Europe/Madrid:20260505T193000
DTSTAMP:20260420T170341
CREATED:20260406T133710Z
LAST-MODIFIED:20260406T133710Z
UID:15118-1777996800-1778009400@imas12.es
SUMMARY:FUNDAMENTOS DE INVESTIGACIÓN EN CIENCIAS DE LA SALUD CON SPSS - 2026
DESCRIPTION:OBJETIVO: Comprender y aplicar los conceptos fundamentales de la estadística básica en el análisis de datos\, seleccionando e interpretando correctamente las pruebas estadísticas adecuadas para diferentes tipos de variables y diseños de estudio. \nCurso presencial de 20 h de duración. \nFECHAS: Días 5\, 7\,12\, 14\, 19\, 21 y 26 de mayo de 2026. \nHORARIOS: De 16 a 19:30 horas. \nLUGAR: Aula de Informática nº 1\, de la planta 6ª\, bloque D del CAA. \nFORMULARIO DE INSCRIPCIÓN  \nMás información
URL:https://imas12.es/actividad/fundamentos-de-investigacion-en-ciencias-de-la-salud-con-spss-2026/
LOCATION:Aula 1 de informática. 6ª\, bloque D. CAA\, Avda. de Córdoba s/n\, Madrid\, Madrid\, 28041\, Spain
CATEGORIES:Cursos
END:VEVENT
END:VCALENDAR