BEGIN:VCALENDAR
VERSION:2.0
PRODID:-//i+12 - ECPv6.15.14//NONSGML v1.0//EN
CALSCALE:GREGORIAN
METHOD:PUBLISH
X-WR-CALNAME:i+12
X-ORIGINAL-URL:https://imas12.es
X-WR-CALDESC:Eventos para i+12
REFRESH-INTERVAL;VALUE=DURATION:PT1H
X-Robots-Tag:noindex
X-PUBLISHED-TTL:PT1H
BEGIN:VTIMEZONE
TZID:Europe/Madrid
BEGIN:DAYLIGHT
TZOFFSETFROM:+0100
TZOFFSETTO:+0200
TZNAME:CEST
DTSTART:20250330T010000
END:DAYLIGHT
BEGIN:STANDARD
TZOFFSETFROM:+0200
TZOFFSETTO:+0100
TZNAME:CET
DTSTART:20251026T010000
END:STANDARD
BEGIN:DAYLIGHT
TZOFFSETFROM:+0100
TZOFFSETTO:+0200
TZNAME:CEST
DTSTART:20260329T010000
END:DAYLIGHT
BEGIN:STANDARD
TZOFFSETFROM:+0200
TZOFFSETTO:+0100
TZNAME:CET
DTSTART:20261025T010000
END:STANDARD
BEGIN:DAYLIGHT
TZOFFSETFROM:+0100
TZOFFSETTO:+0200
TZNAME:CEST
DTSTART:20270328T010000
END:DAYLIGHT
BEGIN:STANDARD
TZOFFSETFROM:+0200
TZOFFSETTO:+0100
TZNAME:CET
DTSTART:20271031T010000
END:STANDARD
END:VTIMEZONE
BEGIN:VEVENT
DTSTART;TZID=Europe/Madrid:20260304T120000
DTEND;TZID=Europe/Madrid:20260304T130000
DTSTAMP:20260423T063322
CREATED:20260225T112426Z
LAST-MODIFIED:20260226T112747Z
UID:14959-1772625600-1772629200@imas12.es
SUMMARY:Sesión Formativa i+12 - Acreditación del CCC 12 de Octubre.
DESCRIPTION:«Acreditación del Centro Integral de Cáncer 12 de Octubre-CCC. Importancia de la investigación« \n\nPonente:\n\nDr. Enrique González Billalabeitia – Coordinador Acreditación del CCC 12 de Octubre. FEA Servicio Oncología Médica – H120. Responsable grupo de investigación Biomarcadores en Tumores Genitourinarios – i+12.\n\n\n\n\nFecha: Miércoles 04 de MARZO de 2026\, de 12:00h a 13:00h.\nLugar: SALÓN DE ACTOS – CENTRO DE SIMULACIÓN – H12O\nRetrasmitida en directo a través de la plataforma ZOOM.\n\nSi quieres asistir por favor contacta con nosotros en: \nEmail: calidad.imas12@h12o.es
URL:https://imas12.es/actividad/sesion-formativa-i12-acreditacion-del-ccc-12-de-octubre/
LOCATION:Centro de Formación y Simulación Avanzada – H12O. Online a través de Zoom
CATEGORIES:Sesión Informativa i+12
END:VEVENT
BEGIN:VEVENT
DTSTART;TZID=Europe/Madrid:20260309T081500
DTEND;TZID=Europe/Madrid:20260309T091500
DTSTAMP:20260423T063322
CREATED:20260224T113716Z
LAST-MODIFIED:20260226T113821Z
UID:14962-1773044100-1773047700@imas12.es
SUMMARY:IV SESIÓN MULTIDISCIPLINAR - ENFERMEDADES AUTOINMUNES SISTÉMICAS
DESCRIPTION:IV SESIÓN MULTIDISCIPLINAR – ENFERMEDADES AUTOINMUNES SISTÉMICAS \nCuando la Enfermedad de Sjögren se complica \n\nFecha: lunes 9 de MARZO de 2026\, de 8:15 h\nLugar: Aula 07870E\, NEH planta EO\nServicios implicados:\n\nSº de Anatomía Patológica: Dra. Marina Alonso Riaño.\nSº de Dermatología: Dra. Alba Calleja Algarra; Dr. Jon Fulgencio Barbarin.\nSº de Hematología: Dra. Fátima Miras Calvo.\nSº de Nefrología: Dr. Eduardo Gutiérrez Martínez.\nSº de Reumatología: Dra. Beatriz E. Joven Ibáñez.\n\n\n\nCARTEL INFORMATIVO
URL:https://imas12.es/actividad/iv-sesion-multidisciplinar-enfermedades-autoinmunes-sistemicas/
LOCATION:Aula 07870E\, NEH planta EO
CATEGORIES:Sesiones Multidisciplinares
END:VEVENT
BEGIN:VEVENT
DTSTART;TZID=Europe/Madrid:20260312T140000
DTEND;TZID=Europe/Madrid:20260312T150000
DTSTAMP:20260423T063322
CREATED:20260304T092109Z
LAST-MODIFIED:20260304T092109Z
UID:14976-1773324000-1773327600@imas12.es
SUMMARY:Sesión Investigación i+12 - Dr. Manuel Navarro Oviedo
DESCRIPTION:Desarrollo de herramientas preclínicas para la Vasculitis Cerebral. \n\nPonentes: Dr. Manuel Navarro Oviedo –Investigador postdoctoral. Grupo de Investigación Enfermedades Neurovasculares. Instituto de Investigación Hospital 12 de Octubre (i+12) – Universidad Compluitense de Madrid (UCM).\nFecha: jueves 12 de marzo de 2026\, de 14:00h a 15:00h.\nLugar: Aula Formación Continuada (6280)\, 6ta planta\, bloque D (CAA)\nRetrasmitida en directo a través de la Plataforma Zoom.\n\nSi quieres que te enviemos los datos de acceso a Zoom por favor contacta con nosotros en: \nEmail: calidad.imas12@h12o.es \nTfno.: 917792869
URL:https://imas12.es/actividad/sesion-investigacion-i12-dr-manuel-navarro-oviedo/
LOCATION:Aula de Formación Continuada (6280) de la 6ta. planta\, bloque D del CAA- Online Plataforma Zoom
CATEGORIES:Sesiones Investigación
END:VEVENT
BEGIN:VEVENT
DTSTART;TZID=Europe/Madrid:20260326T140000
DTEND;TZID=Europe/Madrid:20260326T150000
DTSTAMP:20260423T063322
CREATED:20260318T105028Z
LAST-MODIFIED:20260318T105028Z
UID:15080-1774533600-1774537200@imas12.es
SUMMARY:Sesión Clínico - Básica TRANSFIERE12
DESCRIPTION:Importancia de la Genómica Clínica en Neonatología. \n\n\n\nPrograma Transforma 12: Diagnóstico genético precoz del paciente neonatal crítico.\nProteGEN:  Impacto de la protección familiar en la UCIN a nivel epigenético y del neurodesarrollo.\n\n\n\n\nPonentes:\n\n\nDr. Salvador Piris Borregas – FEA Servicio Neonatología – H12O. Grupo de investigación Neonatología e Investigación en Resultados en Salud – Instituto i+12.\n\n\nDra. Sonia Mayo de Andrés – Servicio de Genética – H12O. Grupo de investigación Genética y Herencia – Instituto i+12.\n\n\n\nFecha: JUEVES 26 de MARZO de 2026\, de 14:00h a 15:00h.\nLugar: SALÓN DE ACTOS – antiguo edificio Materno – Infantil\nRetrasmitida en directo a través de la plataforma TEAM.\n\nSi quieres asistir por favor contacta con nosotros en: \nEmail: calidad.imas12@h12o.es
URL:https://imas12.es/actividad/sesion-clinico-basica-transfiere12-23/
LOCATION:Salón de Actos Edificio Materno-Infantil – Online a través de TEAMS
CATEGORIES:Sesiones TRANSFIERE12
END:VEVENT
END:VCALENDAR